BEGIN:VCALENDAR
VERSION:2.0
PRODID:-//eventon.com NONSGML v1.0//EN
BEGIN:VEVENT
UID:69e4e75de4dc2
DTSTAMP:20260419T143157
DTSTART:20241228T170000Z
DTEND:20241230T010000Z
TZID:America/Chicago
LOCATION:
SUMMARY:Real Estate Interactive
DESCRIPTION: Grant Cardone is hosting a special event that could take you from beginner to real estate expert in just 2 days. This interactive workshop will help you discover: ✅ How to find the Right Deals ✅ The Right and Wrong Types of real estate to invest in ✅ How to[..]\nhttps://elenacardone.com/events/real-estate-interactive/
URL:https://elenacardone.com/events/real-estate-interactive/
END:VEVENT
END:VCALENDAR